BEGIN:VCALENDAR
VERSION:2.0
PRODID:-//hacksw/handcal//NONSGML v1.0//EN
BEGIN:VEVENT
DTSTART:20260607
DTEND:20260608
LOCATION:Ottrott
SUMMARY:Journée mondiale du tricot
URL:https://www.ottrott.fr/Agenda/Journee-mondiale-tricot-00056.html
END:VEVENT
END:VCALENDAR