BEGIN:VCALENDAR
VERSION:2.0
PRODID:-//hacksw/handcal//NONSGML v1.0//EN
BEGIN:VEVENT
DTSTART:20260507
DTEND:20260508
LOCATION:Ottrott
SUMMARY:Soirée Jeux de cartes
DESCRIPTION:https://www.ottrott.fr/Agenda/Soiree-Jeux-cartes-00310.html
END:VEVENT
END:VCALENDAR